BEGIN:VCALENDAR
VERSION:2.0
PRODID:-//Tukios.com/
BEGIN:VEVENT
UID:34f5ae1c-d9b3-41dd-988c-e96e59821dea@www.goodwinefuneralhomes.com
DTSTAMP:20260420T232439Z
DTSTART:20260422T153000Z
DTEND:20260422T163000Z
SUMMARY:Graveside Service
DESCRIPTION:
URL:https://www.goodwinefuneralhomes.com/obituaries/bill-larrabee
LOCATION:Oblong Cemetery 710 E Main St.  Oblong IL 62449
GEO:38.9993322;-87.8989903
END:VEVENT
END:VCALENDAR