BEGIN:VCALENDAR
VERSION:2.0
PRODID:-//Tukios.com/
BEGIN:VEVENT
UID:3fcec577-3522-4cdb-b3e7-2f40eaf3e451@www.goodwinefuneralhomes.com
DTSTAMP:20260424T170643Z
DTSTART:20260430T190000Z
DTEND:20260430T200000Z
SUMMARY:Memorial Service
DESCRIPTION:
URL:https://www.goodwinefuneralhomes.com/obituaries/tonya-lingle
LOCATION:Goodwine Funeral Home - Palestine 501 W Lamotte St  Palestine IL 
	62451
GEO:38.999435;-87.618589
END:VEVENT
END:VCALENDAR