BEGIN:VCALENDAR
VERSION:2.0
PRODID:-//Tukios.com/
BEGIN:VEVENT
UID:c34c7c3d-42ca-480d-a34b-dbe2d43f7d83@www.goodwinefuneralhomes.com
DTSTAMP:20260424T170324Z
DTSTART:20260430T170000Z
DTEND:20260430T190000Z
SUMMARY:Public Visitation
DESCRIPTION:
URL:https://www.goodwinefuneralhomes.com/obituaries/tonya-lingle
LOCATION:Goodwine Funeral Home - Palestine 501 W Lamotte St  Palestine IL 
	62451
GEO:38.999435;-87.618589
END:VEVENT
END:VCALENDAR